BEGIN:VCALENDAR
VERSION:2.0
PRODID:-//Greenwood County Democratic Party - ECPv6.13.0//NONSGML v1.0//EN
CALSCALE:GREGORIAN
METHOD:PUBLISH
X-WR-CALNAME:Greenwood County Democratic Party
X-ORIGINAL-URL:https://gwdcountydems.org
X-WR-CALDESC:Events for Greenwood County Democratic Party
REFRESH-INTERVAL;VALUE=DURATION:PT1H
X-Robots-Tag:noindex
X-PUBLISHED-TTL:PT1H
BEGIN:VTIMEZONE
TZID:America/New_York
BEGIN:DAYLIGHT
TZOFFSETFROM:-0500
TZOFFSETTO:-0400
TZNAME:EDT
DTSTART:20190310T070000
END:DAYLIGHT
BEGIN:STANDARD
TZOFFSETFROM:-0400
TZOFFSETTO:-0500
TZNAME:EST
DTSTART:20191103T060000
END:STANDARD
END:VTIMEZONE
BEGIN:VEVENT
DTSTART;TZID=America/New_York:20191214T090000
DTEND;TZID=America/New_York:20191214T160000
DTSTAMP:20260421T001320
CREATED:20191116T194015Z
LAST-MODIFIED:20191116T194015Z
UID:1353-1576314000-1576339200@gwdcountydems.org
SUMMARY:Spratt Issues Conference
DESCRIPTION:Hosting the First in the South primary\, South Carolinians have an important opportunity as the early voters determining the policy shaping the Democratic primary. Therefore\, we are excited to use this year’s Issues Conference as an opportunity to set the tone in our state’s political conversation. We will have the chance to come together as a party and speak on the obstacles and opportunities we have as SC Democrats. \nOn the evening before the Spratt Issues Conference\, join us for the SCDP Holidazzle. Join us for hors d’oeuvres\, a speaking program\, and a holiday celebration the night before the 2019 Spratt Issues Conference. \n\n— Friday\, December 13\, 2019 —\nSCDP Holidazzle\nGreenville Convention Center\, 1 Exposition Dr\, Greenville\, SC\nProgram: 7:00 PM – 9:00 PM \n— Saturday\, December 14\, 2019 —\nSpratt Issues Conference\nGreenville Convention Center\, 1 Exposition Dr\, Greenville\, SC\nProgram: 9:00 AM – 4:00 PM \nFor more information
URL:https://gwdcountydems.org/event/spratt-issues-conference-2/
LOCATION:Greenville Convention Center\, 1 Exposition Dr\, Greenville\, SC\, 29607\, United States
END:VEVENT
BEGIN:VEVENT
DTSTART;TZID=America/New_York:20191214T183000
DTEND;TZID=America/New_York:20191214T183000
DTSTAMP:20260421T001320
CREATED:20191110T202655Z
LAST-MODIFIED:20191110T202655Z
UID:1323-1576348200-1576348200@gwdcountydems.org
SUMMARY:GWCDP Christmas Party
DESCRIPTION:
URL:https://gwdcountydems.org/event/gwcdp-christmas-party/
LOCATION:1889 Moore House\, 112 Reynolds Ave\, Greenwood\, SC\, 29649\, United States
CATEGORIES:2019 Christmas Party
END:VEVENT
END:VCALENDAR