BEGIN:VCALENDAR
VERSION:2.0
PRODID:-//Greenwood County Democratic Party - ECPv6.13.0//NONSGML v1.0//EN
CALSCALE:GREGORIAN
METHOD:PUBLISH
X-ORIGINAL-URL:https://gwdcountydems.org
X-WR-CALDESC:Events for Greenwood County Democratic Party
REFRESH-INTERVAL;VALUE=DURATION:PT1H
X-Robots-Tag:noindex
X-PUBLISHED-TTL:PT1H
BEGIN:VTIMEZONE
TZID:America/New_York
BEGIN:DAYLIGHT
TZOFFSETFROM:-0500
TZOFFSETTO:-0400
TZNAME:EDT
DTSTART:20200308T070000
END:DAYLIGHT
BEGIN:STANDARD
TZOFFSETFROM:-0400
TZOFFSETTO:-0500
TZNAME:EST
DTSTART:20201101T060000
END:STANDARD
END:VTIMEZONE
BEGIN:VEVENT
DTSTART;TZID=America/New_York:20200507T180000
DTEND;TZID=America/New_York:20200507T190000
DTSTAMP:20260420T164221
CREATED:20200506T112834Z
LAST-MODIFIED:20200506T112834Z
UID:1481-1588874400-1588878000@gwdcountydems.org
SUMMARY:GWCDP Zoom Happy Hour
DESCRIPTION:On Thursday\, May 7 at 6 pm\, the GWCDP will be hosting a virtual Greenwood Democrats Social Hour on Zoom! E-mail us at info@gwdcountydems.org if you wish to participate and we’ll send an invitation. There’s no agenda – it’s just a chance for us to connect “face-to-face” in a safe & fun manner. Let’s talk Greenwood and Politics for a little while until we can again gather in person.
URL:https://gwdcountydems.org/event/gwcdp-zoom-happy-hour/
LOCATION:SC
ATTACH;FMTTYPE=image/png:https://gwdcountydems.org/wp-content/uploads/2020/05/gwcdpzoom.png
END:VEVENT
END:VCALENDAR