BEGIN:VCALENDAR
VERSION:2.0
PRODID:-//Greenwood County Democratic Party - ECPv6.13.0//NONSGML v1.0//EN
CALSCALE:GREGORIAN
METHOD:PUBLISH
X-WR-CALNAME:Greenwood County Democratic Party
X-ORIGINAL-URL:https://gwdcountydems.org
X-WR-CALDESC:Events for Greenwood County Democratic Party
REFRESH-INTERVAL;VALUE=DURATION:PT1H
X-Robots-Tag:noindex
X-PUBLISHED-TTL:PT1H
BEGIN:VTIMEZONE
TZID:America/New_York
BEGIN:DAYLIGHT
TZOFFSETFROM:-0500
TZOFFSETTO:-0400
TZNAME:EDT
DTSTART:20200308T070000
END:DAYLIGHT
BEGIN:STANDARD
TZOFFSETFROM:-0400
TZOFFSETTO:-0500
TZNAME:EST
DTSTART:20201101T060000
END:STANDARD
END:VTIMEZONE
BEGIN:VEVENT
DTSTART;TZID=America/New_York:20200606T100000
DTEND;TZID=America/New_York:20200606T150000
DTSTAMP:20260420T152222
CREATED:20200520T203823Z
LAST-MODIFIED:20200520T203823Z
UID:1685-1591437600-1591455600@gwdcountydems.org
SUMMARY:SCDP Virtual Convention
DESCRIPTION:On Saturday\, June 6\, at 10 a.m.\, we will hold our first-ever “virtual” convention online. We will feature many of our federal candidates and announce the results of our elections.   All Democrats are invited to join us on our Facebook page as we stream our virtual convention live.
URL:https://gwdcountydems.org/event/scdp-virtual-convention/
LOCATION:SC
END:VEVENT
END:VCALENDAR