BEGIN:VCALENDAR
VERSION:2.0
PRODID:-//Greenwood County Democratic Party - ECPv6.13.0//NONSGML v1.0//EN
CALSCALE:GREGORIAN
METHOD:PUBLISH
X-ORIGINAL-URL:https://gwdcountydems.org
X-WR-CALDESC:Events for Greenwood County Democratic Party
REFRESH-INTERVAL;VALUE=DURATION:PT1H
X-Robots-Tag:noindex
X-PUBLISHED-TTL:PT1H
BEGIN:VTIMEZONE
TZID:America/New_York
BEGIN:DAYLIGHT
TZOFFSETFROM:-0500
TZOFFSETTO:-0400
TZNAME:EDT
DTSTART:20200308T070000
END:DAYLIGHT
BEGIN:STANDARD
TZOFFSETFROM:-0400
TZOFFSETTO:-0500
TZNAME:EST
DTSTART:20201101T060000
END:STANDARD
END:VTIMEZONE
BEGIN:VEVENT
DTSTART;TZID=America/New_York:20200629T180000
DTEND;TZID=America/New_York:20200629T190000
DTSTAMP:20260420T140453
CREATED:20200629T010656Z
LAST-MODIFIED:20200629T010656Z
UID:2013-1593453600-1593457200@gwdcountydems.org
SUMMARY:Carnell-Drummond-Mays Committee meeting
DESCRIPTION:The first planning meeting of the Carnell-Drummond-Mays dinner will be held over Zoom. If you are interested in helping plan a spectacular event in October\, please contact April Tumminelli (nurseapril1967@gmail.com).
URL:https://gwdcountydems.org/event/carnell-drummond-mays-committee-meeting/
LOCATION:Zoom
END:VEVENT
BEGIN:VEVENT
DTSTART;TZID=America/New_York:20200629T190000
DTEND;TZID=America/New_York:20200629T200000
DTSTAMP:20260420T140453
CREATED:20200629T010834Z
LAST-MODIFIED:20200629T010834Z
UID:2017-1593457200-1593460800@gwdcountydems.org
SUMMARY:Waldrep Art Works: Sketch-Along Series #2
DESCRIPTION:Waldrep Art Works: Sketch-Along Series is Denise Waldrep‘s 2nd online fundraising where she will teach us how to sketch a caricature of Nancy Pelosi! Help our SC-13 candidate to victory and gain a skill in the process. RSVP with a donation of any amount to participate!
URL:https://gwdcountydems.org/event/waldrep-art-works-sketch-along-series-2/
LOCATION:Zoom
END:VEVENT
END:VCALENDAR