BEGIN:VCALENDAR
VERSION:2.0
PRODID:-//Greenwood County Democratic Party - ECPv6.13.0//NONSGML v1.0//EN
CALSCALE:GREGORIAN
METHOD:PUBLISH
X-ORIGINAL-URL:https://gwdcountydems.org
X-WR-CALDESC:Events for Greenwood County Democratic Party
REFRESH-INTERVAL;VALUE=DURATION:PT1H
X-Robots-Tag:noindex
X-PUBLISHED-TTL:PT1H
BEGIN:VTIMEZONE
TZID:America/New_York
BEGIN:DAYLIGHT
TZOFFSETFROM:-0500
TZOFFSETTO:-0400
TZNAME:EDT
DTSTART:20200308T070000
END:DAYLIGHT
BEGIN:STANDARD
TZOFFSETFROM:-0400
TZOFFSETTO:-0500
TZNAME:EST
DTSTART:20201101T060000
END:STANDARD
END:VTIMEZONE
BEGIN:VEVENT
DTSTART;TZID=America/New_York:20200701T170000
DTEND;TZID=America/New_York:20200701T200000
DTSTAMP:20260420T140510
CREATED:20200629T010951Z
LAST-MODIFIED:20200629T011017Z
UID:2019-1593622800-1593633600@gwdcountydems.org
SUMMARY:SCDP Text banking
DESCRIPTION:Virtual text-banking for Jaime Harrison. Register to help text voters and get the message out about our exciting U.S Senate race and other important races here in South Carolina. Training will be provided!
URL:https://gwdcountydems.org/event/scdp-text-banking/
LOCATION:SC
END:VEVENT
END:VCALENDAR