BEGIN:VCALENDAR
VERSION:2.0
PRODID:-//Greenwood County Democratic Party - ECPv6.13.0//NONSGML v1.0//EN
CALSCALE:GREGORIAN
METHOD:PUBLISH
X-WR-CALNAME:Greenwood County Democratic Party
X-ORIGINAL-URL:https://gwdcountydems.org
X-WR-CALDESC:Events for Greenwood County Democratic Party
REFRESH-INTERVAL;VALUE=DURATION:PT1H
X-Robots-Tag:noindex
X-PUBLISHED-TTL:PT1H
BEGIN:VTIMEZONE
TZID:America/New_York
BEGIN:DAYLIGHT
TZOFFSETFROM:-0500
TZOFFSETTO:-0400
TZNAME:EDT
DTSTART:20200308T070000
END:DAYLIGHT
BEGIN:STANDARD
TZOFFSETFROM:-0400
TZOFFSETTO:-0500
TZNAME:EST
DTSTART:20201101T060000
END:STANDARD
END:VTIMEZONE
BEGIN:VEVENT
DTSTART;TZID=America/New_York:20200708T090000
DTEND;TZID=America/New_York:20200708T160000
DTSTAMP:20260420T140205
CREATED:20200629T005852Z
LAST-MODIFIED:20200629T010055Z
UID:1998-1594198800-1594224000@gwdcountydems.org
SUMMARY:Free COVID-19 testing\, Voter Registration & Census
DESCRIPTION:
URL:https://gwdcountydems.org/event/free-covid-19-mobile-center/
LOCATION:Brewer Recreation Center\, 126 N. University Street\, Greenwood\, SC\, 29646\, United States
END:VEVENT
BEGIN:VEVENT
DTSTART;TZID=America/New_York:20200708T100000
DTEND;TZID=America/New_York:20200708T140000
DTSTAMP:20260420T140205
CREATED:20200703T132433Z
LAST-MODIFIED:20200703T132433Z
UID:2064-1594202400-1594216800@gwdcountydems.org
SUMMARY:Free COVID-19 Testing (AME)
DESCRIPTION:The Seventh Episcopal District of the African Methodist Episcopal Church will host a series of free COVID-19 testing sites across South Carolina. \nA site\, hosted by the Rev. Furman Miller\, will be from 10 a.m. to 2 p.m. Wednesday at Weston Chapel AME Church\, 805 E. Cambridge Ave. \n\nNo prior registration or doctor’s referral is required to be tested. Each site offers free walk-up and drive-through testing.
URL:https://gwdcountydems.org/event/free-covid-19-testing-ame/
LOCATION:Weston Chapel AME Church\, 805 E. Cambridge Ave\, Greenwood\, SC\, 29646\, United States
END:VEVENT
END:VCALENDAR