BEGIN:VCALENDAR
VERSION:2.0
PRODID:-//Greenwood County Democratic Party - ECPv6.13.0//NONSGML v1.0//EN
CALSCALE:GREGORIAN
METHOD:PUBLISH
X-ORIGINAL-URL:https://gwdcountydems.org
X-WR-CALDESC:Events for Greenwood County Democratic Party
REFRESH-INTERVAL;VALUE=DURATION:PT1H
X-Robots-Tag:noindex
X-PUBLISHED-TTL:PT1H
BEGIN:VTIMEZONE
TZID:America/New_York
BEGIN:DAYLIGHT
TZOFFSETFROM:-0500
TZOFFSETTO:-0400
TZNAME:EDT
DTSTART:20200308T070000
END:DAYLIGHT
BEGIN:STANDARD
TZOFFSETFROM:-0400
TZOFFSETTO:-0500
TZNAME:EST
DTSTART:20201101T060000
END:STANDARD
END:VTIMEZONE
BEGIN:VEVENT
DTSTART;TZID=America/New_York:20200713T180000
DTEND;TZID=America/New_York:20200713T190000
DTSTAMP:20260420T140510
CREATED:20200713T103940Z
LAST-MODIFIED:20200713T103940Z
UID:2095-1594663200-1594666800@gwdcountydems.org
SUMMARY:Carnell-Drummond-Mays Dinner Committee
DESCRIPTION:
URL:https://gwdcountydems.org/event/carnell-drummond-mays-dinner-committee/
LOCATION:SC
END:VEVENT
BEGIN:VEVENT
DTSTART;TZID=America/New_York:20200713T190000
DTEND;TZID=America/New_York:20200713T200000
DTSTAMP:20260420T140510
CREATED:20200710T131030Z
LAST-MODIFIED:20200710T131052Z
UID:2090-1594666800-1594670400@gwdcountydems.org
SUMMARY:WaldrepWorks Sketch-Along with Jaime Harrison!
DESCRIPTION:Join Denise Waldrep\, candidate for SC House District 13 in Greenwood County and special guest Jaime Harrison\, candidate for US Senate for a virtual sketch-along fundraiser!\n\nParticipants will have an opportunity to learn more about Denise’s campaign as well as hear from Jaime who will share his own campaign update.\n\nAs a teacher and visual artist\, Denise will lead participants through a guided sketch-along of Jaime.\n\nSpace is limited\, your donation to Denise’s campaign serves as your RSVP.\nSuggested $25 donation and $10 for students and 65 and older\n\nMake your RSVP donation here:\nhttps://secure.actblue.com/donate/sketchalongwithjaime\n\nYou will receive a zoom link to join the day of the event.
URL:https://gwdcountydems.org/event/2090/
LOCATION:Zoom
END:VEVENT
END:VCALENDAR