BEGIN:VCALENDAR
VERSION:2.0
PRODID:-//Greenwood County Democratic Party - ECPv6.13.0//NONSGML v1.0//EN
CALSCALE:GREGORIAN
METHOD:PUBLISH
X-WR-CALNAME:Greenwood County Democratic Party
X-ORIGINAL-URL:https://gwdcountydems.org
X-WR-CALDESC:Events for Greenwood County Democratic Party
REFRESH-INTERVAL;VALUE=DURATION:PT1H
X-Robots-Tag:noindex
X-PUBLISHED-TTL:PT1H
BEGIN:VTIMEZONE
TZID:America/New_York
BEGIN:DAYLIGHT
TZOFFSETFROM:-0500
TZOFFSETTO:-0400
TZNAME:EDT
DTSTART:20200308T070000
END:DAYLIGHT
BEGIN:STANDARD
TZOFFSETFROM:-0400
TZOFFSETTO:-0500
TZNAME:EST
DTSTART:20201101T060000
END:STANDARD
END:VTIMEZONE
BEGIN:VEVENT
DTSTART;TZID=America/New_York:20200723T180000
DTEND;TZID=America/New_York:20200723T190000
DTSTAMP:20260420T140222
CREATED:20200713T104124Z
LAST-MODIFIED:20200713T104124Z
UID:2097-1595527200-1595530800@gwdcountydems.org
SUMMARY:GWCDP Executive Committee Mtg
DESCRIPTION:
URL:https://gwdcountydems.org/event/gwcdp-executive-committee-mtg/
LOCATION:Zoom
END:VEVENT
END:VCALENDAR