BEGIN:VCALENDAR
VERSION:2.0
PRODID:-//Greenwood County Democratic Party - ECPv6.13.0//NONSGML v1.0//EN
CALSCALE:GREGORIAN
METHOD:PUBLISH
X-ORIGINAL-URL:https://gwdcountydems.org
X-WR-CALDESC:Events for Greenwood County Democratic Party
REFRESH-INTERVAL;VALUE=DURATION:PT1H
X-Robots-Tag:noindex
X-PUBLISHED-TTL:PT1H
BEGIN:VTIMEZONE
TZID:America/New_York
BEGIN:DAYLIGHT
TZOFFSETFROM:-0500
TZOFFSETTO:-0400
TZNAME:EDT
DTSTART:20200308T070000
END:DAYLIGHT
BEGIN:STANDARD
TZOFFSETFROM:-0400
TZOFFSETTO:-0500
TZNAME:EST
DTSTART:20201101T060000
END:STANDARD
END:VTIMEZONE
BEGIN:VEVENT
DTSTART;TZID=America/New_York:20200729T090000
DTEND;TZID=America/New_York:20200729T160000
DTSTAMP:20260420T125239
CREATED:20200629T010425Z
LAST-MODIFIED:20200629T010425Z
UID:2010-1596013200-1596038400@gwdcountydems.org
SUMMARY:Free COVID-19 testing\, Voter Registration & Census
DESCRIPTION:
URL:https://gwdcountydems.org/event/free-covid-19-testing-voter-registration-census-2/
LOCATION:Morris Chapel Family Life Center\, 530 Baptist Ave\, Greenwood\, SC\, 29646\, United States
END:VEVENT
END:VCALENDAR