BEGIN:VCALENDAR
VERSION:2.0
PRODID:-//Greenwood County Democratic Party - ECPv6.13.0//NONSGML v1.0//EN
CALSCALE:GREGORIAN
METHOD:PUBLISH
X-ORIGINAL-URL:https://gwdcountydems.org
X-WR-CALDESC:Events for Greenwood County Democratic Party
REFRESH-INTERVAL;VALUE=DURATION:PT1H
X-Robots-Tag:noindex
X-PUBLISHED-TTL:PT1H
BEGIN:VTIMEZONE
TZID:America/New_York
BEGIN:DAYLIGHT
TZOFFSETFROM:-0500
TZOFFSETTO:-0400
TZNAME:EDT
DTSTART:20200308T070000
END:DAYLIGHT
BEGIN:STANDARD
TZOFFSETFROM:-0400
TZOFFSETTO:-0500
TZNAME:EST
DTSTART:20201101T060000
END:STANDARD
END:VTIMEZONE
BEGIN:VEVENT
DTSTART;TZID=America/New_York:20200827T173000
DTEND;TZID=America/New_York:20200827T183000
DTSTAMP:20260420T130354
CREATED:20200725T135418Z
LAST-MODIFIED:20200817T122447Z
UID:2145-1598549400-1598553000@gwdcountydems.org
SUMMARY:GWCDP Executive Committee Meeting
DESCRIPTION:
URL:https://gwdcountydems.org/event/gwcdp-executive-committee-meeting-2/
LOCATION:SC
END:VEVENT
BEGIN:VEVENT
DTSTART;TZID=America/New_York:20200827T183000
DTEND;TZID=America/New_York:20200827T193000
DTSTAMP:20260420T130354
CREATED:20200817T122601Z
LAST-MODIFIED:20200821T155719Z
UID:2322-1598553000-1598556600@gwdcountydems.org
SUMMARY:Denise Waldrep Virtual Town Hall pt. 1 - Community Policing in Greenwood
DESCRIPTION:Join Greenwood Interim Police Chief Maj. T. J. Chaudoin\, Minister Annette Edwards and Next Level Fitness Director Jamar Crawford as they discuss how community policing practices are working in Greenwood. Their participation is in no way an endorsement of any political candidate
URL:https://gwdcountydems.org/event/denise-waldrep-virtual-town-hall/
LOCATION:Facebook Live
END:VEVENT
END:VCALENDAR