BEGIN:VCALENDAR
VERSION:2.0
PRODID:-//Greenwood County Democratic Party - ECPv6.13.0//NONSGML v1.0//EN
CALSCALE:GREGORIAN
METHOD:PUBLISH
X-ORIGINAL-URL:https://gwdcountydems.org
X-WR-CALDESC:Events for Greenwood County Democratic Party
REFRESH-INTERVAL;VALUE=DURATION:PT1H
X-Robots-Tag:noindex
X-PUBLISHED-TTL:PT1H
BEGIN:VTIMEZONE
TZID:America/New_York
BEGIN:DAYLIGHT
TZOFFSETFROM:-0500
TZOFFSETTO:-0400
TZNAME:EDT
DTSTART:20200308T070000
END:DAYLIGHT
BEGIN:STANDARD
TZOFFSETFROM:-0400
TZOFFSETTO:-0500
TZNAME:EST
DTSTART:20201101T060000
END:STANDARD
END:VTIMEZONE
BEGIN:VEVENT
DTSTART;TZID=America/New_York:20200914T180000
DTEND;TZID=America/New_York:20200914T190000
DTSTAMP:20260417T044737
CREATED:20200906T180520Z
LAST-MODIFIED:20200906T180520Z
UID:2414-1600106400-1600110000@gwdcountydems.org
SUMMARY:CDM Dinner Committee Meeting
DESCRIPTION:
URL:https://gwdcountydems.org/event/cdm-dinner-committee-meeting/
LOCATION:Zoom
END:VEVENT
BEGIN:VEVENT
DTSTART;TZID=America/New_York:20200914T190000
DTEND;TZID=America/New_York:20200914T200000
DTSTAMP:20260417T044737
CREATED:20200907T125836Z
LAST-MODIFIED:20200907T125836Z
UID:2440-1600110000-1600113600@gwdcountydems.org
SUMMARY:Waldrep Works Virtual Town Hall Series: pt. 2 - Building Business
DESCRIPTION:Join \n\nGreenwood Mayor Brandon Smith\nGreenwood Association of Realtors President Ann Gunby\nMain & Maxwell Gallery owner Laura Bachinski and\nAnointed Hands Driving School owner Danny Webb\n\nas they discuss the future of business growth and development during the pandemic in the Greenwood area. \nTheir participation is in no way an endorsement of any political candidate. \nThank you to W. Townes Jones IV for sponsoring this series!
URL:https://gwdcountydems.org/event/waldrep-works-virtual-town-hall-series-pt-2-building-business/
LOCATION:Facebook Live
ATTACH;FMTTYPE=image/jpeg:https://gwdcountydems.org/wp-content/uploads/2020/09/Waldrep-Works-Town-Hall-2.jpg
END:VEVENT
END:VCALENDAR