BEGIN:VCALENDAR
VERSION:2.0
PRODID:-//Greenwood County Democratic Party - ECPv6.13.0//NONSGML v1.0//EN
CALSCALE:GREGORIAN
METHOD:PUBLISH
X-WR-CALNAME:Greenwood County Democratic Party
X-ORIGINAL-URL:https://gwdcountydems.org
X-WR-CALDESC:Events for Greenwood County Democratic Party
REFRESH-INTERVAL;VALUE=DURATION:PT1H
X-Robots-Tag:noindex
X-PUBLISHED-TTL:PT1H
BEGIN:VTIMEZONE
TZID:America/New_York
BEGIN:DAYLIGHT
TZOFFSETFROM:-0500
TZOFFSETTO:-0400
TZNAME:EDT
DTSTART:20200308T070000
END:DAYLIGHT
BEGIN:STANDARD
TZOFFSETFROM:-0400
TZOFFSETTO:-0500
TZNAME:EST
DTSTART:20201101T060000
END:STANDARD
END:VTIMEZONE
BEGIN:VEVENT
DTSTART;TZID=America/New_York:20201222T070000
DTEND;TZID=America/New_York:20201222T190000
DTSTAMP:20260420T070810
CREATED:20201125T022542Z
LAST-MODIFIED:20201125T022542Z
UID:2658-1608620400-1608663600@gwdcountydems.org
SUMMARY:Greenwood City Council Ward 2 Special Election
DESCRIPTION:Greenwood City Council is holding a Special Election to fill the seat for Ward 2\, previously held by the late Linda Edwards. \nOn the ballot will be \n\nMarcial Renea Rapp Little\nPatricia Partlow\n\nYou can read more about them on our Candidates 2020 page.
URL:https://gwdcountydems.org/event/greenwood-city-council-ward-2-special-election/
LOCATION:SC
END:VEVENT
END:VCALENDAR