BEGIN:VCALENDAR
VERSION:2.0
PRODID:-//Greenwood County Democratic Party - ECPv6.13.0//NONSGML v1.0//EN
CALSCALE:GREGORIAN
METHOD:PUBLISH
X-WR-CALNAME:Greenwood County Democratic Party
X-ORIGINAL-URL:https://gwdcountydems.org
X-WR-CALDESC:Events for Greenwood County Democratic Party
REFRESH-INTERVAL;VALUE=DURATION:PT1H
X-Robots-Tag:noindex
X-PUBLISHED-TTL:PT1H
BEGIN:VTIMEZONE
TZID:America/New_York
BEGIN:DAYLIGHT
TZOFFSETFROM:-0500
TZOFFSETTO:-0400
TZNAME:EDT
DTSTART:20210314T070000
END:DAYLIGHT
BEGIN:STANDARD
TZOFFSETFROM:-0400
TZOFFSETTO:-0500
TZNAME:EST
DTSTART:20211107T060000
END:STANDARD
END:VTIMEZONE
BEGIN:VEVENT
DTSTART;TZID=America/New_York:20210202T173000
DTEND;TZID=America/New_York:20210202T190000
DTSTAMP:20260420T042330
CREATED:20210126T145209Z
LAST-MODIFIED:20210126T145209Z
UID:2922-1612287000-1612292400@gwdcountydems.org
SUMMARY:GWD County Council
DESCRIPTION:Watch on YouTube.
URL:https://gwdcountydems.org/event/gwd-county-council/
LOCATION:Greenwood County Public Library\, 600 Main St.\, Greenwood\, SC\, 29646\, United States
END:VEVENT
BEGIN:VEVENT
DTSTART;TZID=America/New_York:20210202T183000
DTEND;TZID=America/New_York:20210202T193000
DTSTAMP:20260420T042330
CREATED:20210126T150016Z
LAST-MODIFIED:20210126T150036Z
UID:2936-1612290600-1612294200@gwdcountydems.org
SUMMARY:SCDP Lobbying Your Elected Officials: It's Easy
DESCRIPTION:Learn tools and tips that will empower and enable you to effectively share your view point with city council members\, county council members\, state legislators\, members of Congress and the public.
URL:https://gwdcountydems.org/event/scdp-lobbying-your-elected-officials-its-easy/
LOCATION:Online
END:VEVENT
END:VCALENDAR