BEGIN:VCALENDAR
VERSION:2.0
PRODID:-//Greenwood County Democratic Party - ECPv6.13.0//NONSGML v1.0//EN
CALSCALE:GREGORIAN
METHOD:PUBLISH
X-ORIGINAL-URL:https://gwdcountydems.org
X-WR-CALDESC:Events for Greenwood County Democratic Party
REFRESH-INTERVAL;VALUE=DURATION:PT1H
X-Robots-Tag:noindex
X-PUBLISHED-TTL:PT1H
BEGIN:VTIMEZONE
TZID:America/New_York
BEGIN:DAYLIGHT
TZOFFSETFROM:-0500
TZOFFSETTO:-0400
TZNAME:EDT
DTSTART:20210314T070000
END:DAYLIGHT
BEGIN:STANDARD
TZOFFSETFROM:-0400
TZOFFSETTO:-0500
TZNAME:EST
DTSTART:20211107T060000
END:STANDARD
END:VTIMEZONE
BEGIN:VEVENT
DTSTART;TZID=America/New_York:20210208T173000
DTEND;TZID=America/New_York:20210208T190000
DTSTAMP:20260415T180721
CREATED:20210126T145323Z
LAST-MODIFIED:20210126T145323Z
UID:2924-1612805400-1612810800@gwdcountydems.org
SUMMARY:SC Humanities Electoral Initiative: Lessons from November: Who voted\, who didn’t\, and why does it matter?
DESCRIPTION:South Carolina Humanities and Lander University are pleased to present “Lessons from November: Who voted\, who didn’t\, and why does it matter?” one of eleven virtual programs in the South Carolina Humanities Electoral Initiative. The live\, virtual roundtable will take place on Monday\, February 8\, 2021 at 5:30 PM. Dr. Amy E. Black and Dr. Quentin Kidd will discuss voting rights\, voter access\, voter suppression\, and re-districting in the past and after the 2020 Census.
URL:https://gwdcountydems.org/event/sc-humanities-electoral-initiative-lessons-from-november-who-voted-who-didnt-and-why-does-it-matter/
LOCATION:Online
END:VEVENT
END:VCALENDAR