BEGIN:VCALENDAR
VERSION:2.0
PRODID:-//Greenwood County Democratic Party - ECPv6.13.0//NONSGML v1.0//EN
CALSCALE:GREGORIAN
METHOD:PUBLISH
X-WR-CALNAME:Greenwood County Democratic Party
X-ORIGINAL-URL:https://gwdcountydems.org
X-WR-CALDESC:Events for Greenwood County Democratic Party
REFRESH-INTERVAL;VALUE=DURATION:PT1H
X-Robots-Tag:noindex
X-PUBLISHED-TTL:PT1H
BEGIN:VTIMEZONE
TZID:America/New_York
BEGIN:DAYLIGHT
TZOFFSETFROM:-0500
TZOFFSETTO:-0400
TZNAME:EDT
DTSTART:20210314T070000
END:DAYLIGHT
BEGIN:STANDARD
TZOFFSETFROM:-0400
TZOFFSETTO:-0500
TZNAME:EST
DTSTART:20211107T060000
END:STANDARD
END:VTIMEZONE
BEGIN:VEVENT
DTSTART;TZID=America/New_York:20210220T100000
DTEND;TZID=America/New_York:20210220T110000
DTSTAMP:20260422T042534
CREATED:20210212T134126Z
LAST-MODIFIED:20210212T134126Z
UID:2997-1613815200-1613818800@gwdcountydems.org
SUMMARY:Heart Health Awareness Webinar
DESCRIPTION:Sign up here: https://www.mobilize.us/scdp/event/374582/ \nThe information you learn here literally could save a life!
URL:https://gwdcountydems.org/event/heart-health-awareness-webinar/
LOCATION:SC
END:VEVENT
END:VCALENDAR