BEGIN:VCALENDAR
VERSION:2.0
PRODID:-//Greenwood County Democratic Party - ECPv6.13.0//NONSGML v1.0//EN
CALSCALE:GREGORIAN
METHOD:PUBLISH
X-WR-CALNAME:Greenwood County Democratic Party
X-ORIGINAL-URL:https://gwdcountydems.org
X-WR-CALDESC:Events for Greenwood County Democratic Party
REFRESH-INTERVAL;VALUE=DURATION:PT1H
X-Robots-Tag:noindex
X-PUBLISHED-TTL:PT1H
BEGIN:VTIMEZONE
TZID:America/New_York
BEGIN:DAYLIGHT
TZOFFSETFROM:-0500
TZOFFSETTO:-0400
TZNAME:EDT
DTSTART:20220313T070000
END:DAYLIGHT
BEGIN:STANDARD
TZOFFSETFROM:-0400
TZOFFSETTO:-0500
TZNAME:EST
DTSTART:20221106T060000
END:STANDARD
END:VTIMEZONE
BEGIN:VEVENT
DTSTART;TZID=America/New_York:20220402T090000
DTEND;TZID=America/New_York:20220402T110000
DTSTAMP:20260420T124232
CREATED:20220330T004441Z
LAST-MODIFIED:20220330T004441Z
UID:4397-1648890000-1648897200@gwdcountydems.org
SUMMARY:April 2022 Breakfast Meeting
DESCRIPTION:Please RSVP here.
URL:https://gwdcountydems.org/event/april-2022-breakfast-meeting/
LOCATION:Morris Chapel Family Life Center\, 530 Baptist Ave\, Greenwood\, SC\, 29646\, United States
END:VEVENT
END:VCALENDAR