BEGIN:VCALENDAR
VERSION:2.0
PRODID:-//Greenwood County Democratic Party - ECPv6.13.0//NONSGML v1.0//EN
CALSCALE:GREGORIAN
METHOD:PUBLISH
X-ORIGINAL-URL:https://gwdcountydems.org
X-WR-CALDESC:Events for Greenwood County Democratic Party
REFRESH-INTERVAL;VALUE=DURATION:PT1H
X-Robots-Tag:noindex
X-PUBLISHED-TTL:PT1H
BEGIN:VTIMEZONE
TZID:America/New_York
BEGIN:DAYLIGHT
TZOFFSETFROM:-0500
TZOFFSETTO:-0400
TZNAME:EDT
DTSTART:20250309T070000
END:DAYLIGHT
BEGIN:STANDARD
TZOFFSETFROM:-0400
TZOFFSETTO:-0500
TZNAME:EST
DTSTART:20251102T060000
END:STANDARD
END:VTIMEZONE
BEGIN:VEVENT
DTSTART;TZID=America/New_York:20250607T090000
DTEND;TZID=America/New_York:20250607T110000
DTSTAMP:20260421T084806
CREATED:20250516T111057Z
LAST-MODIFIED:20250604T200556Z
UID:5622-1749286800-1749294000@gwdcountydems.org
SUMMARY:June Breakfast Meeting
DESCRIPTION:We’re back from a highly energized and motivating State Convention and we can’t wait to share the momentum with you! \nJoin us this Saturday morning at 9 am for our monthly Breakfast Meeting where you will get updates on everything happening with the Greenwood Democrats plus a chance to hear directly from US Senate Candidate Lee Johnson! \nPlease click the poster below to RSVP to help us get an expected headcount and for you to receive reminders of this meeting as the event approaches.
URL:https://gwdcountydems.org/event/june-breakfast-meeting-2/
LOCATION:Morris Chapel Family Life Center\, 530 Baptist Ave\, Greenwood\, SC\, 29646\, United States
END:VEVENT
END:VCALENDAR