BEGIN:VCALENDAR
VERSION:2.0
PRODID:-//Greenwood County Democratic Party - ECPv6.13.0//NONSGML v1.0//EN
CALSCALE:GREGORIAN
METHOD:PUBLISH
X-WR-CALNAME:Greenwood County Democratic Party
X-ORIGINAL-URL:https://gwdcountydems.org
X-WR-CALDESC:Events for Greenwood County Democratic Party
REFRESH-INTERVAL;VALUE=DURATION:PT1H
X-Robots-Tag:noindex
X-PUBLISHED-TTL:PT1H
BEGIN:VTIMEZONE
TZID:America/New_York
BEGIN:DAYLIGHT
TZOFFSETFROM:-0500
TZOFFSETTO:-0400
TZNAME:EDT
DTSTART:20250309T070000
END:DAYLIGHT
BEGIN:STANDARD
TZOFFSETFROM:-0400
TZOFFSETTO:-0500
TZNAME:EST
DTSTART:20251102T060000
END:STANDARD
END:VTIMEZONE
BEGIN:VEVENT
DTSTART;TZID=America/New_York:20250614T093000
DTEND;TZID=America/New_York:20250614T103000
DTSTAMP:20260420T183649
CREATED:20250604T201220Z
LAST-MODIFIED:20250604T201250Z
UID:5629-1749893400-1749897000@gwdcountydems.org
SUMMARY:Juneteenth Parade and Festival
DESCRIPTION:Parade lineup at 9:30 am in the Hampton Plaza (parking lot for Montague’s) \nBring your “No Kings” protest sign to show off in the parade!
URL:https://gwdcountydems.org/event/juneteenth-parade-and-festival/
LOCATION:Uptown Greenwood at the Fountain
END:VEVENT
END:VCALENDAR