BEGIN:VCALENDAR
VERSION:2.0
PRODID:-//Greenwood County Democratic Party - ECPv6.13.0//NONSGML v1.0//EN
CALSCALE:GREGORIAN
METHOD:PUBLISH
X-ORIGINAL-URL:https://gwdcountydems.org
X-WR-CALDESC:Events for Greenwood County Democratic Party
REFRESH-INTERVAL;VALUE=DURATION:PT1H
X-Robots-Tag:noindex
X-PUBLISHED-TTL:PT1H
BEGIN:VTIMEZONE
TZID:America/New_York
BEGIN:DAYLIGHT
TZOFFSETFROM:-0500
TZOFFSETTO:-0400
TZNAME:EDT
DTSTART:20250309T070000
END:DAYLIGHT
BEGIN:STANDARD
TZOFFSETFROM:-0400
TZOFFSETTO:-0500
TZNAME:EST
DTSTART:20251102T060000
END:STANDARD
END:VTIMEZONE
BEGIN:VEVENT
DTSTART;TZID=America/New_York:20251207T133000
DTEND;TZID=America/New_York:20251207T153000
DTSTAMP:20260420T055411
CREATED:20251204T140044Z
LAST-MODIFIED:20251204T181934Z
UID:5737-1765114200-1765121400@gwdcountydems.org
SUMMARY:Greenwood Christmas Parade
DESCRIPTION:The GWCDP will be participating in the Greenwood Christmas Parade this Sunday. \nAll riders and walkers\, please meet this Sunday\, December 7th\, at 305 Main Street in Greenwood and park in the back. Arrival time is no later than 1:30 PM. The parade begins at 2:30 PM. \nThis year’s theme is Blue Christmas\, so feel free to wear anything and everything blue to show unity and spirit. \nParade organizers are also encouraging everyone to bring positive “We Believe” signs or other uplifting messages to share with the community.
URL:https://gwdcountydems.org/event/greenwood-christmas-parade/
LOCATION:SC
END:VEVENT
END:VCALENDAR