BEGIN:VCALENDAR
VERSION:2.0
PRODID:-//Greenwood County Democratic Party - ECPv6.13.0//NONSGML v1.0//EN
CALSCALE:GREGORIAN
METHOD:PUBLISH
X-WR-CALNAME:Greenwood County Democratic Party
X-ORIGINAL-URL:https://gwdcountydems.org
X-WR-CALDESC:Events for Greenwood County Democratic Party
REFRESH-INTERVAL;VALUE=DURATION:PT1H
X-Robots-Tag:noindex
X-PUBLISHED-TTL:PT1H
BEGIN:VTIMEZONE
TZID:America/New_York
BEGIN:DAYLIGHT
TZOFFSETFROM:-0500
TZOFFSETTO:-0400
TZNAME:EDT
DTSTART:20170312T070000
END:DAYLIGHT
BEGIN:STANDARD
TZOFFSETFROM:-0400
TZOFFSETTO:-0500
TZNAME:EST
DTSTART:20171105T060000
END:STANDARD
END:VTIMEZONE
BEGIN:VEVENT
DTSTART;TZID=America/New_York:20171016T173000
DTEND;TZID=America/New_York:20171016T193000
DTSTAMP:20260421T165011
CREATED:20171015T004837Z
LAST-MODIFIED:20171015T004918Z
UID:165-1508175000-1508182200@gwdcountydems.org
SUMMARY:Greenville Rally Response to Donald Trump & Henry McMaster
DESCRIPTION:Join the coalition of South Carolina organizations to rally during President Donald Trump’s visit to Greenville to campaign for Gov. Henry McMaster! We’ll be gathered to express the values of our organizations\, and share ideas and speak out to create change within our communities. \nAny organizations looking for additional information can reach out to gcdpcomms@greenvilledemocrats.com.
URL:https://gwdcountydems.org/event/greenville-rally-response-to-donald-trump-henry-mcmaster/
LOCATION:Hide Map Falls Park on the Reedy River\, Greenville\, South Carolina\, 29601\, United States
END:VEVENT
END:VCALENDAR