BEGIN:VCALENDAR
VERSION:2.0
PRODID:-//Greenwood County Democratic Party - ECPv6.13.0//NONSGML v1.0//EN
CALSCALE:GREGORIAN
METHOD:PUBLISH
X-ORIGINAL-URL:https://gwdcountydems.org
X-WR-CALDESC:Events for Greenwood County Democratic Party
REFRESH-INTERVAL;VALUE=DURATION:PT1H
X-Robots-Tag:noindex
X-PUBLISHED-TTL:PT1H
BEGIN:VTIMEZONE
TZID:America/New_York
BEGIN:DAYLIGHT
TZOFFSETFROM:-0500
TZOFFSETTO:-0400
TZNAME:EDT
DTSTART:20190310T070000
END:DAYLIGHT
BEGIN:STANDARD
TZOFFSETFROM:-0400
TZOFFSETTO:-0500
TZNAME:EST
DTSTART:20191103T060000
END:STANDARD
END:VTIMEZONE
BEGIN:VEVENT
DTSTART;TZID=America/New_York:20190504T110000
DTEND;TZID=America/New_York:20190504T150000
DTSTAMP:20260421T084928
CREATED:20190131T040919Z
LAST-MODIFIED:20190131T041003Z
UID:1153-1556967600-1556982000@gwdcountydems.org
SUMMARY:Fish and Dogs Fundraiser
DESCRIPTION:It’s that time again! We’re looking for a few good people to plan one of our largest fundraisers of the year: Fish and Dogs. Last year’s event was a tremendous success. We need your help to make this year’s event even better! The first Fish and Dogs Committee Meeting will be Feb 21 from 5-7 at the Greenwood County Library. Come help the event be the best it can be! This year’s Fish and Dogs will be held held May 4th from 11 AM – 3 PM at Magnolia Park. Stay tuned for more details as the Committee releases them!
URL:https://gwdcountydems.org/event/fish-and-dogs/
LOCATION:SC
END:VEVENT
END:VCALENDAR