BEGIN:VCALENDAR
VERSION:2.0
PRODID:-//Greenwood County Democratic Party - ECPv6.13.0//NONSGML v1.0//EN
CALSCALE:GREGORIAN
METHOD:PUBLISH
X-ORIGINAL-URL:https://gwdcountydems.org
X-WR-CALDESC:Events for Greenwood County Democratic Party
REFRESH-INTERVAL;VALUE=DURATION:PT1H
X-Robots-Tag:noindex
X-PUBLISHED-TTL:PT1H
BEGIN:VTIMEZONE
TZID:America/New_York
BEGIN:DAYLIGHT
TZOFFSETFROM:-0500
TZOFFSETTO:-0400
TZNAME:EDT
DTSTART:20190310T070000
END:DAYLIGHT
BEGIN:STANDARD
TZOFFSETFROM:-0400
TZOFFSETTO:-0500
TZNAME:EST
DTSTART:20191103T060000
END:STANDARD
END:VTIMEZONE
BEGIN:VEVENT
DTSTART;TZID=America/New_York:20191102T090000
DTEND;TZID=America/New_York:20191102T110000
DTSTAMP:20260421T001458
CREATED:20191025T051147Z
LAST-MODIFIED:20191025T051147Z
UID:1283-1572685200-1572692400@gwdcountydems.org
SUMMARY:Monthly Breakfast Meeting
DESCRIPTION:We are pleased and honored to have as our guest speaker the First Vice Chair of the South Carolina Democratic State Party\, Lessie Price. Ms. Price was a member of the Aiken City Council for nearly three decades and has served as the Council’s mayor pro tempore and as president of the Municipal Association of South Carolina. Come join us to hear about our State Party from this dynamic woman. All are welcome!
URL:https://gwdcountydems.org/event/monthly-breakfast-meeting-13/
LOCATION:Montague’s\, 115 Hampton Avenue\, Ste N\, Greenwood\, SC\, 29646\, United States
CATEGORIES:Monthly meeting
END:VEVENT
END:VCALENDAR