BEGIN:VCALENDAR
VERSION:2.0
PRODID:-//Greenwood County Democratic Party - ECPv6.13.0//NONSGML v1.0//EN
CALSCALE:GREGORIAN
METHOD:PUBLISH
X-WR-CALNAME:Greenwood County Democratic Party
X-ORIGINAL-URL:https://gwdcountydems.org
X-WR-CALDESC:Events for Greenwood County Democratic Party
REFRESH-INTERVAL;VALUE=DURATION:PT1H
X-Robots-Tag:noindex
X-PUBLISHED-TTL:PT1H
BEGIN:VTIMEZONE
TZID:America/New_York
BEGIN:DAYLIGHT
TZOFFSETFROM:-0500
TZOFFSETTO:-0400
TZNAME:EDT
DTSTART:20200308T070000
END:DAYLIGHT
BEGIN:STANDARD
TZOFFSETFROM:-0400
TZOFFSETTO:-0500
TZNAME:EST
DTSTART:20201101T060000
END:STANDARD
END:VTIMEZONE
BEGIN:VEVENT
DTSTART;TZID=America/New_York:20200428T170000
DTEND;TZID=America/New_York:20200428T180000
DTSTAMP:20260420T164653
CREATED:20200427T014822Z
LAST-MODIFIED:20200427T014822Z
UID:1391-1588093200-1588096800@gwdcountydems.org
SUMMARY:SCDP VoPro WebSeries: How to become involved - Poll Watchers & Hotline Workers
DESCRIPTION:Register here:\nhttps://www.mobilize.us/scdp/event/269751/
URL:https://gwdcountydems.org/event/scdp-vopro-webseries-how-to-become-involved-poll-watchers-hotline-workers/
LOCATION:SC
END:VEVENT
BEGIN:VEVENT
DTSTART;TZID=America/New_York:20200429T150000
DTEND;TZID=America/New_York:20200429T160000
DTSTAMP:20260420T164653
CREATED:20200427T015312Z
LAST-MODIFIED:20200427T015312Z
UID:1395-1588172400-1588176000@gwdcountydems.org
SUMMARY:GWCDP Executive Committee Meeting
DESCRIPTION:Call-in information provided via e-mail.
URL:https://gwdcountydems.org/event/gwcdp-executive-committee-meeting/
LOCATION:SC
END:VEVENT
BEGIN:VEVENT
DTSTART;TZID=America/New_York:20200430T170000
DTEND;TZID=America/New_York:20200430T180000
DTSTAMP:20260420T164653
CREATED:20200427T014637Z
LAST-MODIFIED:20200427T014637Z
UID:1389-1588266000-1588269600@gwdcountydems.org
SUMMARY:SCDP VoPro Webseries: Absentee Voting - The Basics
DESCRIPTION:Register here:\nhttps://www.mobilize.us/scdp/event/269739/
URL:https://gwdcountydems.org/event/scdp-vopro-webseries-absentee-voting-the-basics/
LOCATION:SC
END:VEVENT
END:VCALENDAR