BEGIN:VCALENDAR
VERSION:2.0
PRODID:-//Greenwood County Democratic Party - ECPv6.13.0//NONSGML v1.0//EN
CALSCALE:GREGORIAN
METHOD:PUBLISH
X-WR-CALNAME:Greenwood County Democratic Party
X-ORIGINAL-URL:https://gwdcountydems.org
X-WR-CALDESC:Events for Greenwood County Democratic Party
REFRESH-INTERVAL;VALUE=DURATION:PT1H
X-Robots-Tag:noindex
X-PUBLISHED-TTL:PT1H
BEGIN:VTIMEZONE
TZID:America/New_York
BEGIN:DAYLIGHT
TZOFFSETFROM:-0500
TZOFFSETTO:-0400
TZNAME:EDT
DTSTART:20200308T070000
END:DAYLIGHT
BEGIN:STANDARD
TZOFFSETFROM:-0400
TZOFFSETTO:-0500
TZNAME:EST
DTSTART:20201101T060000
END:STANDARD
END:VTIMEZONE
BEGIN:VEVENT
DTSTART;TZID=America/New_York:20201116T173000
DTEND;TZID=America/New_York:20201116T183000
DTSTAMP:20260420T070847
CREATED:20201115T215333Z
LAST-MODIFIED:20201115T215333Z
UID:2547-1605547800-1605551400@gwdcountydems.org
SUMMARY:Greenwood City Council Meeting
DESCRIPTION:Municipal Building – 520 Monument St.\, Room 201 \nAgenda
URL:https://gwdcountydems.org/event/greenwood-city-council-meeting-9/
LOCATION:Greenwood Municipal Building\, Municipal Building – 520 Monument St.\, Room 201\, Greenwood\, SC\, 29646\, United States
END:VEVENT
BEGIN:VEVENT
DTSTART;TZID=America/New_York:20201117T173000
DTEND;TZID=America/New_York:20201117T183000
DTSTAMP:20260420T070847
CREATED:20201115T215532Z
LAST-MODIFIED:20201115T220052Z
UID:2549-1605634200-1605637800@gwdcountydems.org
SUMMARY:Greenwood County Council Meeting
DESCRIPTION:
URL:https://gwdcountydems.org/event/greenwood-county-council-meeting-12/
LOCATION:Greenwood County Public Library\, 600 Main St.\, Greenwood\, SC\, 29646\, United States
END:VEVENT
BEGIN:VEVENT
DTSTART;TZID=America/New_York:20201118T183000
DTEND;TZID=America/New_York:20201118T193000
DTSTAMP:20260420T070847
CREATED:20201115T221954Z
LAST-MODIFIED:20201115T221954Z
UID:2553-1605724200-1605727800@gwdcountydems.org
SUMMARY:GWCDP Zoom Social Hour
DESCRIPTION:Time to reflect on the 2020 Election! \nBefore we move on to planning for 2021 and beyond\, let’s have an open\, honest\, and respectful conversation about what worked\, what didn’t\, and what we need to do differently to give our wonderful candidates the best chance to succeed in future elections! \nSign-up via the Mobilize link provided to get the Zoom iformation
URL:https://gwdcountydems.org/event/gwcdp-zoom-social-hour-2/
LOCATION:Zoom
END:VEVENT
END:VCALENDAR