BEGIN:VCALENDAR
VERSION:2.0
PRODID:-//Greenwood County Democratic Party - ECPv6.13.0//NONSGML v1.0//EN
CALSCALE:GREGORIAN
METHOD:PUBLISH
X-ORIGINAL-URL:https://gwdcountydems.org
X-WR-CALDESC:Events for Greenwood County Democratic Party
REFRESH-INTERVAL;VALUE=DURATION:PT1H
X-Robots-Tag:noindex
X-PUBLISHED-TTL:PT1H
BEGIN:VTIMEZONE
TZID:America/New_York
BEGIN:DAYLIGHT
TZOFFSETFROM:-0500
TZOFFSETTO:-0400
TZNAME:EDT
DTSTART:20200308T070000
END:DAYLIGHT
BEGIN:STANDARD
TZOFFSETFROM:-0400
TZOFFSETTO:-0500
TZNAME:EST
DTSTART:20201101T060000
END:STANDARD
END:VTIMEZONE
BEGIN:VEVENT
DTSTART;TZID=America/New_York:20201205T090000
DTEND;TZID=America/New_York:20201205T103000
DTSTAMP:20260420T055503
CREATED:20200818T013152Z
LAST-MODIFIED:20200818T013152Z
UID:2346-1607158800-1607164200@gwdcountydems.org
SUMMARY:GWCDP Virtual Breakfast meeting
DESCRIPTION:Visit us on Facebook Live for the final Virtual Breakfast meeting of the year to reflect on the recent election and begin planning for 2022! We’ll hear from various speakers as well as get updates on local happenings with the Greenwood County Democratic Party. You’ll have to bring your own coffee & donuts! \nGuest speakers will include: \n\nTBD\n\nSign up at the link below to receive reminder notifications!
URL:https://gwdcountydems.org/event/gwcdp-virtual-breakfast-meeting-7/
LOCATION:Facebook Live
END:VEVENT
BEGIN:VEVENT
DTSTART;TZID=America/New_York:20201215T173000
DTEND;TZID=America/New_York:20201215T190000
DTSTAMP:20260420T055503
CREATED:20201213T142632Z
LAST-MODIFIED:20201213T142632Z
UID:2742-1608053400-1608058800@gwdcountydems.org
SUMMARY:Greenwood County Council
DESCRIPTION:
URL:https://gwdcountydems.org/event/greenwood-county-council/
LOCATION:Greenwood County Public Library\, 600 Main St.\, Greenwood\, SC\, 29646\, United States
END:VEVENT
BEGIN:VEVENT
DTSTART;TZID=America/New_York:20201215T180000
DTEND;TZID=America/New_York:20201215T200000
DTSTAMP:20260420T055503
CREATED:20201213T142528Z
LAST-MODIFIED:20201213T142528Z
UID:2740-1608055200-1608062400@gwdcountydems.org
SUMMARY:City of Greenwood Ward 2 Candidate Town Hall
DESCRIPTION:Morris Chapel Baptist Church is hosting a candidate forum for Greenwood City Council Ward 2 candidates. \n\n\nThe town hall meeting will take place at 6 p.m. Dec. 15 in the Life Center of the church at 530 Baptist Ave. in Greenwood.
URL:https://gwdcountydems.org/event/city-of-greenwood-ward-2-candidate-town-hall/
LOCATION:SC
END:VEVENT
BEGIN:VEVENT
DTSTART;TZID=America/New_York:20201221T173000
DTEND;TZID=America/New_York:20201221T183000
DTSTAMP:20260420T055503
CREATED:20201213T142727Z
LAST-MODIFIED:20201213T142727Z
UID:2744-1608571800-1608575400@gwdcountydems.org
SUMMARY:Greenwood City Council
DESCRIPTION:Greenwood Municipal Building\nAlso streamed live on Facebook.
URL:https://gwdcountydems.org/event/greenwood-city-council/
LOCATION:Greenwood Municipal Building\, Municipal Building – 520 Monument St.\, Room 201\, Greenwood\, SC\, 29646\, United States
END:VEVENT
BEGIN:VEVENT
DTSTART;TZID=America/New_York:20201222T070000
DTEND;TZID=America/New_York:20201222T190000
DTSTAMP:20260420T055503
CREATED:20201125T022542Z
LAST-MODIFIED:20201125T022542Z
UID:2658-1608620400-1608663600@gwdcountydems.org
SUMMARY:Greenwood City Council Ward 2 Special Election
DESCRIPTION:Greenwood City Council is holding a Special Election to fill the seat for Ward 2\, previously held by the late Linda Edwards. \nOn the ballot will be \n\nMarcial Renea Rapp Little\nPatricia Partlow\n\nYou can read more about them on our Candidates 2020 page.
URL:https://gwdcountydems.org/event/greenwood-city-council-ward-2-special-election/
LOCATION:SC
END:VEVENT
END:VCALENDAR