BEGIN:VCALENDAR
VERSION:2.0
PRODID:-//Greenwood County Democratic Party - ECPv6.13.0//NONSGML v1.0//EN
CALSCALE:GREGORIAN
METHOD:PUBLISH
X-WR-CALNAME:Greenwood County Democratic Party
X-ORIGINAL-URL:https://gwdcountydems.org
X-WR-CALDESC:Events for Greenwood County Democratic Party
REFRESH-INTERVAL;VALUE=DURATION:PT1H
X-Robots-Tag:noindex
X-PUBLISHED-TTL:PT1H
BEGIN:VTIMEZONE
TZID:America/New_York
BEGIN:DAYLIGHT
TZOFFSETFROM:-0500
TZOFFSETTO:-0400
TZNAME:EDT
DTSTART:20220313T070000
END:DAYLIGHT
BEGIN:STANDARD
TZOFFSETFROM:-0400
TZOFFSETTO:-0500
TZNAME:EST
DTSTART:20221106T060000
END:STANDARD
END:VTIMEZONE
BEGIN:VEVENT
DTSTART;TZID=America/New_York:20220108T090000
DTEND;TZID=America/New_York:20220108T110000
DTSTAMP:20260417T042631
CREATED:20220102T214219Z
LAST-MODIFIED:20220102T214219Z
UID:3998-1641632400-1641639600@gwdcountydems.org
SUMMARY:January Breakfast Meeting
DESCRIPTION:
URL:https://gwdcountydems.org/event/january-breakfast-meeting/
LOCATION:Morris Chapel Family Life Center\, 530 Baptist Ave\, Greenwood\, SC\, 29646\, United States
CATEGORIES:Monthly meeting
END:VEVENT
BEGIN:VEVENT
DTSTART;TZID=America/New_York:20220111T100000
DTEND;TZID=America/New_York:20220111T120000
DTSTAMP:20260417T042631
CREATED:20220104T214025Z
LAST-MODIFIED:20220104T214025Z
UID:4001-1641895200-1641902400@gwdcountydems.org
SUMMARY:Voter Registration Drive @ Piedmont Tech
DESCRIPTION:
URL:https://gwdcountydems.org/event/voter-registration-drive-piedmont-tech/
LOCATION:Piedmont Technical College\, 620 Emerald Rd N\, Greenwood\, SC\, 29646\, United States
END:VEVENT
BEGIN:VEVENT
DTSTART;VALUE=DATE:20220129
DTEND;VALUE=DATE:20220130
DTSTAMP:20260417T042631
CREATED:20220123T231747Z
LAST-MODIFIED:20220123T231747Z
UID:4082-1643414400-1643500799@gwdcountydems.org
SUMMARY:Food Drive Deadline
DESCRIPTION:
URL:https://gwdcountydems.org/event/food-drive-deadline/
LOCATION:SC
END:VEVENT
END:VCALENDAR